Package: brainflowprobes Version: 1.20.0 Command: rm -rf brainflowprobes.buildbin-libdir && mkdir brainflowprobes.buildbin-libdir && /Users/biocbuild/BBS/utils/build-universal.sh brainflowprobes_1.20.0.tar.gz /Library/Frameworks/R.framework/Resources/bin/R brainflowprobes.buildbin-libdir StartedAt: 2025-02-05 15:02:35 -0500 (Wed, 05 Feb 2025) EndedAt: 2025-02-05 15:03:42 -0500 (Wed, 05 Feb 2025) EllapsedTime: 67.3 seconds RetCode: 0 Status: OK PackageFile: brainflowprobes_1.20.0.tgz PackageFileSize: 1.771 MiB