Package: brainflowprobes Version: 1.20.0 Command: /Library/Frameworks/R.framework/Resources/bin/R CMD check --install=check:brainflowprobes.install-out.txt --library=/Library/Frameworks/R.framework/Resources/library --no-vignettes --timings brainflowprobes_1.20.0.tar.gz StartedAt: 2025-02-04 13:17:58 -0500 (Tue, 04 Feb 2025) EndedAt: 2025-02-04 13:25:36 -0500 (Tue, 04 Feb 2025) EllapsedTime: 457.8 seconds RetCode: 1 Status: ERROR CheckDir: brainflowprobes.Rcheck Warnings: NA