Package: brainflowprobes Version: 1.20.0 Command: /home/biocbuild/R/R/bin/R CMD build --keep-empty-dirs --no-resave-data brainflowprobes StartedAt: 2025-02-10 22:00:56 -0000 (Mon, 10 Feb 2025) EndedAt: 2025-02-10 22:02:45 -0000 (Mon, 10 Feb 2025) EllapsedTime: 109.0 seconds RetCode: 0 Status: OK PackageFile: brainflowprobes_1.20.0.tar.gz PackageFileSize: 2.312 MiB