Package: brainflowprobes Version: 1.20.0 Command: /home/biocbuild/R/R/bin/R CMD INSTALL brainflowprobes StartedAt: 2025-02-03 21:02:26 -0000 (Mon, 03 Feb 2025) EndedAt: 2025-02-03 21:03:30 -0000 (Mon, 03 Feb 2025) EllapsedTime: 64.1 seconds RetCode: 0 Status: OK