Package: broadSeq Version: 1.0.0 Command: /Library/Frameworks/R.framework/Resources/bin/R CMD check --install=check:broadSeq.install-out.txt --library=/Library/Frameworks/R.framework/Resources/library --no-vignettes --timings broadSeq_1.0.0.tar.gz StartedAt: 2025-02-04 13:24:06 -0500 (Tue, 04 Feb 2025) EndedAt: 2025-02-04 13:29:16 -0500 (Tue, 04 Feb 2025) EllapsedTime: 309.8 seconds RetCode: 0 Status: OK CheckDir: broadSeq.Rcheck Warnings: 0