Package: broadSeq Version: 1.0.0 Command: /Library/Frameworks/R.framework/Resources/bin/R CMD build --keep-empty-dirs --no-resave-data broadSeq StartedAt: 2025-02-03 17:34:05 -0500 (Mon, 03 Feb 2025) EndedAt: 2025-02-03 17:38:09 -0500 (Mon, 03 Feb 2025) EllapsedTime: 243.5 seconds RetCode: 0 Status: OK PackageFile: broadSeq_1.0.0.tar.gz PackageFileSize: 4.053 MiB