Package: broadSeq Version: 1.0.0 Command: /home/biocbuild/R/R/bin/R CMD INSTALL broadSeq StartedAt: 2025-02-03 21:21:12 -0000 (Mon, 03 Feb 2025) EndedAt: 2025-02-03 21:21:14 -0000 (Mon, 03 Feb 2025) EllapsedTime: 1.1 seconds RetCode: 1 Status: ERROR