Package: bsseq Version: 1.42.0 Command: /Library/Frameworks/R.framework/Resources/bin/R CMD check --install=check:bsseq.install-out.txt --library=/Library/Frameworks/R.framework/Resources/library --no-vignettes --timings bsseq_1.42.0.tar.gz StartedAt: 2025-02-04 13:25:36 -0500 (Tue, 04 Feb 2025) EndedAt: 2025-02-04 13:34:22 -0500 (Tue, 04 Feb 2025) EllapsedTime: 525.7 seconds RetCode: 0 Status: OK CheckDir: bsseq.Rcheck Warnings: 0