Package: bsseq Version: 1.42.0 Command: /Library/Frameworks/R.framework/Resources/bin/R CMD build --keep-empty-dirs --no-resave-data bsseq StartedAt: 2025-02-03 17:34:20 -0500 (Mon, 03 Feb 2025) EndedAt: 2025-02-03 17:39:13 -0500 (Mon, 03 Feb 2025) EllapsedTime: 292.7 seconds RetCode: 0 Status: OK PackageFile: bsseq_1.42.0.tar.gz PackageFileSize: 2.887 MiB