Package: bsseq Version: 1.42.0 Command: /home/biocbuild/bbs-3.20-bioc/R/bin/R CMD build --keep-empty-dirs --no-resave-data --md5 bsseq StartedAt: 2025-02-10 16:32:31 -0500 (Mon, 10 Feb 2025) EndedAt: 2025-02-10 16:34:48 -0500 (Mon, 10 Feb 2025) EllapsedTime: 137.1 seconds RetCode: 0 Status: OK PackageFile: bsseq_1.42.0.tar.gz PackageFileSize: 2.879 MiB