Package: bsseq Version: 1.42.0 Command: /home/biocbuild/R/R/bin/R CMD build --keep-empty-dirs --no-resave-data bsseq StartedAt: 2025-02-03 22:18:13 -0000 (Mon, 03 Feb 2025) EndedAt: 2025-02-03 22:21:17 -0000 (Mon, 03 Feb 2025) EllapsedTime: 184.1 seconds RetCode: 0 Status: OK PackageFile: bsseq_1.42.0.tar.gz PackageFileSize: 2.921 MiB