Package: bsseq Version: 1.42.0 Command: /home/biocbuild/R/R/bin/R CMD INSTALL bsseq StartedAt: 2025-02-10 20:29:48 -0000 (Mon, 10 Feb 2025) EndedAt: 2025-02-10 20:31:18 -0000 (Mon, 10 Feb 2025) EllapsedTime: 89.3 seconds RetCode: 0 Status: OK