Package: bugsigdbr Version: 1.12.0 Command: /Library/Frameworks/R.framework/Resources/bin/R CMD build --keep-empty-dirs --no-resave-data bugsigdbr StartedAt: 2025-02-03 19:52:02 -0500 (Mon, 03 Feb 2025) EndedAt: 2025-02-03 19:52:44 -0500 (Mon, 03 Feb 2025) EllapsedTime: 42.5 seconds RetCode: 0 Status: OK PackageFile: bugsigdbr_1.12.0.tar.gz PackageFileSize: 328.8 KiB