Package: bugsigdbr Version: 1.12.0 Command: /Library/Frameworks/R.framework/Resources/bin/R CMD INSTALL bugsigdbr StartedAt: 2025-02-03 15:39:21 -0500 (Mon, 03 Feb 2025) EndedAt: 2025-02-03 15:39:23 -0500 (Mon, 03 Feb 2025) EllapsedTime: 1.2 seconds RetCode: 0 Status: OK