Package: bugsigdbr Version: 1.12.0 Command: rm -rf bugsigdbr.buildbin-libdir && mkdir bugsigdbr.buildbin-libdir && /Users/biocbuild/BBS/utils/build-universal.sh bugsigdbr_1.12.0.tar.gz /Library/Frameworks/R.framework/Resources/bin/R bugsigdbr.buildbin-libdir StartedAt: 2025-02-04 12:34:53 -0500 (Tue, 04 Feb 2025) EndedAt: 2025-02-04 12:34:58 -0500 (Tue, 04 Feb 2025) EllapsedTime: 5.6 seconds RetCode: 0 Status: OK PackageFile: bugsigdbr_1.12.0.tgz PackageFileSize: 359.9 KiB