Package: bugsigdbr Version: 1.12.0 Command: /Library/Frameworks/R.framework/Resources/bin/R CMD INSTALL bugsigdbr StartedAt: 2025-02-10 15:23:37 -0500 (Mon, 10 Feb 2025) EndedAt: 2025-02-10 15:23:42 -0500 (Mon, 10 Feb 2025) EllapsedTime: 4.6 seconds RetCode: 0 Status: OK