Package: bugsigdbr Version: 1.12.0 Command: chmod a+r bugsigdbr -R && F:\biocbuild\bbs-3.20-bioc\R\bin\R.exe CMD build --keep-empty-dirs --no-resave-data bugsigdbr StartedAt: 2025-02-03 17:53:57 -0500 (Mon, 03 Feb 2025) EndedAt: 2025-02-03 17:54:51 -0500 (Mon, 03 Feb 2025) EllapsedTime: 53.4 seconds RetCode: 0 Status: OK PackageFile: bugsigdbr_1.12.0.tar.gz PackageFileSize: 329.1 KiB