Package: bugsigdbr Version: 1.12.0 Command: /home/biocbuild/R/R/bin/R CMD build --keep-empty-dirs --no-resave-data bugsigdbr StartedAt: 2025-02-03 22:18:25 -0000 (Mon, 03 Feb 2025) EndedAt: 2025-02-03 22:19:16 -0000 (Mon, 03 Feb 2025) EllapsedTime: 51.0 seconds RetCode: 0 Status: OK PackageFile: bugsigdbr_1.12.0.tar.gz PackageFileSize: 395.3 KiB