Package: bugsigdbr Version: 1.12.0 Command: /home/biocbuild/R/R/bin/R CMD INSTALL bugsigdbr StartedAt: 2025-02-03 20:35:12 -0000 (Mon, 03 Feb 2025) EndedAt: 2025-02-03 20:35:14 -0000 (Mon, 03 Feb 2025) EllapsedTime: 2.8 seconds RetCode: 0 Status: OK