Package: bumphunter Version: 1.48.0 Command: /Library/Frameworks/R.framework/Resources/bin/R CMD INSTALL bumphunter StartedAt: 2025-01-30 16:19:38 -0500 (Thu, 30 Jan 2025) EndedAt: 2025-01-30 16:20:20 -0500 (Thu, 30 Jan 2025) EllapsedTime: 42.5 seconds RetCode: 0 Status: OK