Package: bumphunter Version: 1.48.0 Command: rm -rf bumphunter.buildbin-libdir && mkdir bumphunter.buildbin-libdir && /Users/biocbuild/BBS/utils/build-universal.sh bumphunter_1.48.0.tar.gz /Library/Frameworks/R.framework/Resources/bin/R bumphunter.buildbin-libdir StartedAt: 2025-02-04 12:34:58 -0500 (Tue, 04 Feb 2025) EndedAt: 2025-02-04 12:36:18 -0500 (Tue, 04 Feb 2025) EllapsedTime: 79.6 seconds RetCode: 0 Status: OK PackageFile: bumphunter_1.48.0.tgz PackageFileSize: 4.452 MiB