Package: bumphunter Version: 1.48.0 Command: /Library/Frameworks/R.framework/Resources/bin/R CMD build --keep-empty-dirs --no-resave-data bumphunter StartedAt: 2025-02-03 17:34:48 -0500 (Mon, 03 Feb 2025) EndedAt: 2025-02-03 17:36:37 -0500 (Mon, 03 Feb 2025) EllapsedTime: 109.6 seconds RetCode: 0 Status: OK PackageFile: bumphunter_1.48.0.tar.gz PackageFileSize: 2.365 MiB