Package: bumphunter Version: 1.48.0 Command: /Library/Frameworks/R.framework/Resources/bin/R CMD check --install=check:bumphunter.install-out.txt --library=/Library/Frameworks/R.framework/Resources/library --no-vignettes --timings bumphunter_1.48.0.tar.gz StartedAt: 2025-02-04 00:41:04 -0500 (Tue, 04 Feb 2025) EndedAt: 2025-02-04 00:56:38 -0500 (Tue, 04 Feb 2025) EllapsedTime: 934.0 seconds RetCode: 0 Status: OK CheckDir: bumphunter.Rcheck Warnings: 0