Package: bumphunter Version: 1.48.0 Command: chmod a+r bumphunter -R && F:\biocbuild\bbs-3.20-bioc\R\bin\R.exe CMD build --keep-empty-dirs --no-resave-data bumphunter StartedAt: 2025-02-03 17:54:04 -0500 (Mon, 03 Feb 2025) EndedAt: 2025-02-03 17:55:24 -0500 (Mon, 03 Feb 2025) EllapsedTime: 80.4 seconds RetCode: 0 Status: OK PackageFile: bumphunter_1.48.0.tar.gz PackageFileSize: 2.367 MiB