Package: bumphunter Version: 1.48.0 Command: /home/biocbuild/R/R/bin/R CMD build --keep-empty-dirs --no-resave-data bumphunter StartedAt: 2025-02-10 22:03:14 -0000 (Mon, 10 Feb 2025) EndedAt: 2025-02-10 22:04:12 -0000 (Mon, 10 Feb 2025) EllapsedTime: 58.0 seconds RetCode: 0 Status: OK PackageFile: bumphunter_1.48.0.tar.gz PackageFileSize: 2.36 MiB