Package: bumphunter Version: 1.48.0 Command: /home/biocbuild/R/R/bin/R CMD INSTALL bumphunter StartedAt: 2025-02-03 20:47:58 -0000 (Mon, 03 Feb 2025) EndedAt: 2025-02-03 20:48:40 -0000 (Mon, 03 Feb 2025) EllapsedTime: 42.4 seconds RetCode: 0 Status: OK