Package: cTRAP Version: 1.24.0 Command: /Library/Frameworks/R.framework/Resources/bin/R CMD check --install=check:cTRAP.install-out.txt --library=/Library/Frameworks/R.framework/Resources/library --no-vignettes --timings cTRAP_1.24.0.tar.gz StartedAt: 2025-01-31 16:17:50 -0500 (Fri, 31 Jan 2025) EndedAt: 2025-01-31 16:27:30 -0500 (Fri, 31 Jan 2025) EllapsedTime: 579.9 seconds RetCode: 0 Status: OK CheckDir: cTRAP.Rcheck Warnings: 0