Package: cTRAP Version: 1.24.0 Command: /Library/Frameworks/R.framework/Resources/bin/R CMD INSTALL cTRAP StartedAt: 2025-01-30 17:10:54 -0500 (Thu, 30 Jan 2025) EndedAt: 2025-01-30 17:11:29 -0500 (Thu, 30 Jan 2025) EllapsedTime: 35.2 seconds RetCode: 0 Status: OK