############################################################################## ############################################################################## ### ### Running command: ### ### /Library/Frameworks/R.framework/Resources/bin/R CMD check --install=check:cTRAP.install-out.txt --library=/Library/Frameworks/R.framework/Resources/library --no-vignettes --timings cTRAP_1.24.0.tar.gz ### ############################################################################## ############################################################################## * using log directory ‘/Users/biocbuild/bbs-3.20-bioc/meat/cTRAP.Rcheck’ * using R version 4.4.1 (2024-06-14) * using platform: x86_64-apple-darwin20 * R was compiled by Apple clang version 14.0.0 (clang-1400.0.29.202) GNU Fortran (GCC) 12.2.0 * running under: macOS Monterey 12.7.6 * using session charset: UTF-8 * using option ‘--no-vignettes’ * checking for file ‘cTRAP/DESCRIPTION’ ... OK * this is package ‘cTRAP’ version ‘1.24.0’ * package encoding: UTF-8 * checking package namespace information ... OK * checking package dependencies ...Warning: unable to access index for repository https://CRAN.R-project.org/src/contrib: cannot open URL 'https://CRAN.R-project.org/src/contrib/PACKAGES' OK * checking if this is a source package ... OK * checking if there is a namespace ... OK * checking for hidden files and directories ... NOTE Found the following hidden files and directories: .devcontainer These were most likely included in error. See section ‘Package structure’ in the ‘Writing R Extensions’ manual. * checking for portable file names ... OK * checking for sufficient/correct file permissions ... OK * checking whether package ‘cTRAP’ can be installed ... OK * checking installed package size ... NOTE installed size is 5.0Mb sub-directories of 1Mb or more: data 4.3Mb * checking package directory ... OK * checking DESCRIPTION meta-information ... NOTE License stub is invalid DCF. * checking top-level files ... OK * checking for left-over files ... OK * checking index information ... OK * checking package subdirectories ... OK * checking code files for non-ASCII characters ... OK * checking R files for syntax errors ... OK * checking whether the package can be loaded ... OK * checking whether the package can be loaded with stated dependencies ... OK * checking whether the package can be unloaded cleanly ... OK * checking whether the namespace can be loaded with stated dependencies ... OK * checking whether the namespace can be unloaded cleanly ... OK * checking dependencies in R code ... OK * checking S3 generic/method consistency ... OK * checking replacement functions ... OK * checking foreign function calls ... OK * checking R code for possible problems ... NOTE Found the following possibly unsafe calls: File ‘cTRAP/R/shinyInterface_session.R’: assignInNamespace("dataTablesFilter", dt_mod, "DT") plotComparison: no visible binding for global variable ‘.data’ plotMetricDistribution: no visible binding for global variable ‘.data’ plotSingleCorr: no visible binding for global variable ‘.data’ plotTargetingDrug: no visible binding for global variable ‘.data’ plotTargetingDrugsVSsimilarPerturbations: no visible binding for global variable ‘.data’ Undefined global functions or variables: .data * checking Rd files ... OK * checking Rd metadata ... OK * checking Rd cross-references ... OK * checking for missing documentation entries ... OK * checking for code/documentation mismatches ... OK * checking Rd \usage sections ... NOTE Documented arguments not in \usage in Rd file 'compareWithAllMethods.Rd': ‘rankByAscending’ Functions with \usage entries need to have the appropriate \alias entries, and all their arguments documented. The \usage entries must correspond to syntactically valid R code. See chapter ‘Writing R documentation files’ in the ‘Writing R Extensions’ manual. * checking Rd contents ... OK * checking for unstated dependencies in examples ... OK * checking contents of ‘data’ directory ... OK * checking data for non-ASCII characters ... NOTE Note: found 1 marked UTF-8 string * checking LazyData ... OK * checking data for ASCII and uncompressed saves ... OK * checking R/sysdata.rda ... OK * checking files in ‘vignettes’ ... OK * checking examples ... OK Examples with CPU (user + system) or elapsed time > 5s user system elapsed plotDrugSetEnrichment 140.301 1.876 142.661 convertGeneIdentifiers 15.021 1.691 24.846 plot.referenceComparison 14.180 1.300 15.532 analyseDrugSetEnrichment 11.732 1.818 61.318 plot.perturbationChanges 9.845 0.544 10.417 prepareDrugSets 4.149 3.463 7.645 plotTargetingDrugsVSsimilarPerturbations 4.619 1.023 5.678 filterCMapMetadata 4.732 0.561 13.033 downloadENCODEknockdownMetadata 2.172 0.613 59.759 * checking for unstated dependencies in ‘tests’ ... OK * checking tests ... Running ‘spelling.R’ Running ‘testthat.R’ OK * checking for unstated dependencies in vignettes ... OK * checking package vignettes ... OK * checking running R code from vignettes ... SKIPPED * checking re-building of vignette outputs ... SKIPPED * checking PDF version of manual ... OK * DONE Status: 6 NOTEs See ‘/Users/biocbuild/bbs-3.20-bioc/meat/cTRAP.Rcheck/00check.log’ for details.