Package: cTRAP Version: 1.24.0 Command: /Library/Frameworks/R.framework/Resources/bin/R CMD build --keep-empty-dirs --no-resave-data cTRAP StartedAt: 2025-01-30 18:18:00 -0500 (Thu, 30 Jan 2025) EndedAt: 2025-01-30 18:23:02 -0500 (Thu, 30 Jan 2025) EllapsedTime: 302.3 seconds RetCode: 0 Status: OK PackageFile: cTRAP_1.24.0.tar.gz PackageFileSize: 5.289 MiB