Package: cTRAP Version: 1.24.0 Command: rm -rf cTRAP.buildbin-libdir && mkdir cTRAP.buildbin-libdir && F:\biocbuild\bbs-3.20-bioc\R\bin\R.exe CMD INSTALL --build --library=cTRAP.buildbin-libdir cTRAP_1.24.0.tar.gz StartedAt: 2025-01-31 08:28:25 -0500 (Fri, 31 Jan 2025) EndedAt: 2025-01-31 08:29:28 -0500 (Fri, 31 Jan 2025) EllapsedTime: 62.8 seconds RetCode: 0 Status: OK PackageFile: cTRAP_1.24.0.zip PackageFileSize: 5.043 MiB