Package: cTRAP Version: 1.24.0 Command: chmod a+r cTRAP -R && F:\biocbuild\bbs-3.20-bioc\R\bin\R.exe CMD build --keep-empty-dirs --no-resave-data cTRAP StartedAt: 2025-01-30 18:11:59 -0500 (Thu, 30 Jan 2025) EndedAt: 2025-01-30 18:23:17 -0500 (Thu, 30 Jan 2025) EllapsedTime: 677.6 seconds RetCode: 0 Status: OK PackageFile: cTRAP_1.24.0.tar.gz PackageFileSize: 3.947 MiB