Package: cTRAP Version: 1.24.0 Command: /home/biocbuild/R/R/bin/R CMD build --keep-empty-dirs --no-resave-data cTRAP StartedAt: 2025-01-30 22:56:34 -0000 (Thu, 30 Jan 2025) EndedAt: 2025-01-30 22:57:33 -0000 (Thu, 30 Jan 2025) EllapsedTime: 59.0 seconds RetCode: 1 Status: ERROR PackageFile: None PackageFileSize: NA