Package: cageminer Version: 1.12.0 Command: rm -rf cageminer.buildbin-libdir && mkdir cageminer.buildbin-libdir && /Users/biocbuild/BBS/utils/build-universal.sh cageminer_1.12.0.tar.gz /Library/Frameworks/R.framework/Resources/bin/R cageminer.buildbin-libdir StartedAt: 2025-02-05 15:05:13 -0500 (Wed, 05 Feb 2025) EndedAt: 2025-02-05 15:06:23 -0500 (Wed, 05 Feb 2025) EllapsedTime: 69.9 seconds RetCode: 0 Status: OK PackageFile: cageminer_1.12.0.tgz PackageFileSize: 1.448 MiB