Package: cageminer Version: 1.12.0 Command: /home/biocbuild/R/R/bin/R CMD check --install=check:cageminer.install-out.txt --library=/home/biocbuild/R/R/site-library --no-vignettes --timings cageminer_1.12.0.tar.gz StartedAt: 2024-11-20 05:53:21 -0000 (Wed, 20 Nov 2024) EndedAt: 2024-11-20 06:02:37 -0000 (Wed, 20 Nov 2024) EllapsedTime: 556.1 seconds RetCode: 0 Status: OK CheckDir: cageminer.Rcheck Warnings: 0