Package: cageminer Version: 1.12.0 Command: /Library/Frameworks/R.framework/Resources/bin/R CMD INSTALL cageminer StartedAt: 2025-02-10 16:34:48 -0500 (Mon, 10 Feb 2025) EndedAt: 2025-02-10 16:36:44 -0500 (Mon, 10 Feb 2025) EllapsedTime: 115.6 seconds RetCode: 0 Status: OK