Package: cageminer Version: 1.12.0 Command: /home/biocbuild/bbs-3.20-bioc/R/bin/R CMD build --keep-empty-dirs --no-resave-data --md5 cageminer StartedAt: 2025-02-03 16:41:28 -0500 (Mon, 03 Feb 2025) EndedAt: 2025-02-03 16:43:53 -0500 (Mon, 03 Feb 2025) EllapsedTime: 145.2 seconds RetCode: 0 Status: OK PackageFile: cageminer_1.12.0.tar.gz PackageFileSize: 1.291 MiB