Package: cageminer Version: 1.12.0 Command: /home/biocbuild/bbs-3.20-bioc/R/bin/R CMD check --install=check:cageminer.install-out.txt --library=/home/biocbuild/bbs-3.20-bioc/R/site-library --timings cageminer_1.12.0.tar.gz StartedAt: 2025-01-30 20:30:20 -0500 (Thu, 30 Jan 2025) EndedAt: 2025-01-30 20:38:43 -0500 (Thu, 30 Jan 2025) EllapsedTime: 502.7 seconds RetCode: 0 Status: OK CheckDir: cageminer.Rcheck Warnings: 0