Package: cageminer Version: 1.12.0 Command: /home/biocbuild/bbs-3.20-bioc/R/bin/R CMD INSTALL cageminer StartedAt: 2025-01-30 15:57:41 -0500 (Thu, 30 Jan 2025) EndedAt: 2025-01-30 15:58:39 -0500 (Thu, 30 Jan 2025) EllapsedTime: 57.9 seconds RetCode: 0 Status: OK