Package: cageminer Version: 1.12.0 Command: chmod a+r cageminer -R && F:\biocbuild\bbs-3.20-bioc\R\bin\R.exe CMD build --keep-empty-dirs --no-resave-data cageminer StartedAt: 2025-01-30 17:42:50 -0500 (Thu, 30 Jan 2025) EndedAt: 2025-01-30 17:46:06 -0500 (Thu, 30 Jan 2025) EllapsedTime: 196.6 seconds RetCode: 0 Status: OK PackageFile: cageminer_1.12.0.tar.gz PackageFileSize: 879.5 KiB