Package: cageminer Version: 1.12.0 Command: /home/biocbuild/R/R/bin/R CMD check --install=check:cageminer.install-out.txt --library=/home/biocbuild/R/R/site-library --no-vignettes --timings cageminer_1.12.0.tar.gz StartedAt: 2025-02-11 04:29:07 -0000 (Tue, 11 Feb 2025) EndedAt: 2025-02-11 04:37:32 -0000 (Tue, 11 Feb 2025) EllapsedTime: 504.3 seconds RetCode: 0 Status: OK CheckDir: cageminer.Rcheck Warnings: 0