Package: calm Version: 1.20.0 Command: /Library/Frameworks/R.framework/Resources/bin/R CMD build --keep-empty-dirs --no-resave-data calm StartedAt: 2025-02-03 19:57:04 -0500 (Mon, 03 Feb 2025) EndedAt: 2025-02-03 20:00:14 -0500 (Mon, 03 Feb 2025) EllapsedTime: 190.0 seconds RetCode: 0 Status: OK PackageFile: calm_1.20.0.tar.gz PackageFileSize: 397.5 KiB