Package: calm Version: 1.20.0 Command: /Library/Frameworks/R.framework/Resources/bin/R CMD INSTALL calm StartedAt: 2025-02-10 15:18:11 -0500 (Mon, 10 Feb 2025) EndedAt: 2025-02-10 15:18:17 -0500 (Mon, 10 Feb 2025) EllapsedTime: 5.9 seconds RetCode: 0 Status: OK