Package: calm Version: 1.20.0 Command: rm -rf calm.buildbin-libdir && mkdir calm.buildbin-libdir && /Users/biocbuild/BBS/utils/build-universal.sh calm_1.20.0.tar.gz /Library/Frameworks/R.framework/Resources/bin/R calm.buildbin-libdir StartedAt: 2025-02-04 12:35:38 -0500 (Tue, 04 Feb 2025) EndedAt: 2025-02-04 12:35:51 -0500 (Tue, 04 Feb 2025) EllapsedTime: 12.9 seconds RetCode: 0 Status: OK PackageFile: calm_1.20.0.tgz PackageFileSize: 427.7 KiB