Package: calm Version: 1.20.0 Command: /Library/Frameworks/R.framework/Resources/bin/R CMD build --keep-empty-dirs --no-resave-data calm StartedAt: 2025-02-03 17:36:19 -0500 (Mon, 03 Feb 2025) EndedAt: 2025-02-03 17:40:08 -0500 (Mon, 03 Feb 2025) EllapsedTime: 229.2 seconds RetCode: 0 Status: OK PackageFile: calm_1.20.0.tar.gz PackageFileSize: 397.3 KiB