Package: calm Version: 1.20.0 Command: /Library/Frameworks/R.framework/Resources/bin/R CMD INSTALL calm StartedAt: 2025-02-03 15:19:00 -0500 (Mon, 03 Feb 2025) EndedAt: 2025-02-03 15:19:22 -0500 (Mon, 03 Feb 2025) EllapsedTime: 22.0 seconds RetCode: 0 Status: OK