Package: calm Version: 1.20.0 Command: rm -rf calm.buildbin-libdir && mkdir calm.buildbin-libdir && F:\biocbuild\bbs-3.20-bioc\R\bin\R.exe CMD INSTALL --build --library=calm.buildbin-libdir calm_1.20.0.tar.gz StartedAt: 2025-02-04 08:07:15 -0500 (Tue, 04 Feb 2025) EndedAt: 2025-02-04 08:07:29 -0500 (Tue, 04 Feb 2025) EllapsedTime: 13.8 seconds RetCode: 0 Status: OK PackageFile: calm_1.20.0.zip PackageFileSize: 421.8 KiB