Package: calm Version: 1.20.0 Command: /home/biocbuild/R/R/bin/R CMD INSTALL calm StartedAt: 2025-02-03 20:27:37 -0000 (Mon, 03 Feb 2025) EndedAt: 2025-02-03 20:28:00 -0000 (Mon, 03 Feb 2025) EllapsedTime: 23.8 seconds RetCode: 0 Status: OK