Package: canceR Version: 1.40.0 Command: rm -rf canceR.buildbin-libdir && mkdir canceR.buildbin-libdir && /Users/biocbuild/BBS/utils/build-universal.sh canceR_1.40.0.tar.gz /Library/Frameworks/R.framework/Resources/bin/R canceR.buildbin-libdir StartedAt: 2025-02-01 14:11:04 -0500 (Sat, 01 Feb 2025) EndedAt: 2025-02-01 14:13:02 -0500 (Sat, 01 Feb 2025) EllapsedTime: 117.5 seconds RetCode: 0 Status: OK PackageFile: canceR_1.40.0.tgz PackageFileSize: 14.91 MiB