Package: canceR Version: 1.40.0 Command: /Library/Frameworks/R.framework/Resources/bin/R CMD check --install=check:canceR.install-out.txt --library=/Library/Frameworks/R.framework/Resources/library --no-vignettes --timings canceR_1.40.0.tar.gz StartedAt: 2025-01-31 13:23:04 -0500 (Fri, 31 Jan 2025) EndedAt: 2025-01-31 13:32:50 -0500 (Fri, 31 Jan 2025) EllapsedTime: 586.2 seconds RetCode: 0 Status: OK CheckDir: canceR.Rcheck Warnings: 0